BEGIN:VCALENDAR
VERSION:2.0
PRODID:-//CERN//INDICO//EN
BEGIN:VEVENT
SUMMARY:2026 Summer School on Combinatorics and Algorithms
DTSTART:20260810T020000Z
DTEND:20260814T043000Z
DTSTAMP:20260423T220800Z
UID:indico-event-1273@indico.ibs.re.kr
CONTACT:junghoahn@inha.ac.kr\;eunjung.kim@kaist.ac.kr\;eunjin.oh@postech.a
 c.kr\;sangil@ibs.re.kr
DESCRIPTION:This summer school will serve two lecture series with group ex
 ercise and recitation on everyday.Lecture 1 by Dr. Magnus WahlströmTitle:
  TBALecture 2 by Dr. Daniel DadushTitle: TBAAccommodations will be support
 ed with limited space.Visit our website: https://combialgo.github.io/.\n\n
 https://indico.ibs.re.kr/event/1273/
URL:https://indico.ibs.re.kr/event/1273/
END:VEVENT
END:VCALENDAR
